BEGIN:VCALENDAR
VERSION:2.0
PRODID:-//Eventin//Event Calendar//EN
CALSCALE:GREGORIAN
METHOD:PUBLISH
BEGIN:VEVENT
UID:c6f6cd6a2ee355a10be724b2d7db144e@god.lt
SUMMARY:"Pagramantis - upių rėvų\, atodangų ir kabančių tiltų krašt
 as" Dviračių žygis 2026
DESCRIPTION:Kasmetinis GOD dviračių žygis sugrįžta Pagramantyje (Taura
 gės raj. sav.) 2025 birželio 5-7d. \nPasižymėkite datą\, o daugiau in
 fo jau netrukus!
LOCATION:Online
DTSTAMP:20260422T132558Z
DTSTART:20260605T110000Z
DTEND:20260607T160000Z
END:VEVENT
END:VCALENDAR
